BEGIN:VCALENDAR
VERSION:2.0
PRODID:-//hacksw/handcal//NONSGML v1.0//EN
BEGIN:VEVENT
SUMMARY:Salle ouverte ce vendredi soir
UID:6f3b86a0-ee92-472e-bdc5-d58e009d70c5
DTSTART:20260424T160000Z
DTEND:20260424T180000Z
LOCATION:Localisation   
CATEGORIES:Entrainement
STATUS:
DESCRIPTION:<p>Grace a l'option ci-dessous, vous pouvez lancer une
 recherche de partenaire de jeu pour cette seance :</p>
 
 <p> </p>
URL;VALUE=URI:https://www.ttlarochevendee.fr/evenements/2026/04/24/salle-ouverte-ce-vendredi-soir-2437567
END:VEVENT
END:VCALENDAR
