BEGIN:VCALENDAR
VERSION:2.0
PRODID:-//hacksw/handcal//NONSGML v1.0//EN
BEGIN:VEVENT
SUMMARY:"Faites du sport" Place Napoleon : le TTRV de 10h a 13h
UID:05315456-4d78-4958-b5fb-03459cb10db5
DTSTART:20250920T080000Z
DTEND:20250920T110000Z
LOCATION:Localisation Place Napoleon 85000 La Roche sur Yon
CATEGORIES:Manifestation
STATUS:
DESCRIPTION:<p>Le club sera present samedi matin place Napoleon pour
 Faites du sport. Passez faire un coucou !</p>
 
 <p>et l'apres-midi,
 c'est matchs a la salle pour les 1eres rencontres de la saison.</p>
 
URL;VALUE=URI:https://www.ttlarochevendee.fr/evenements/2025/09/20/faites-du-sport-place-napoleon-le-ttrv-de-10h-a-13h-2243392
END:VEVENT
END:VCALENDAR
